BEGIN:VCALENDAR
VERSION:2.0
PRODID:-//Gulf Pine Catholic - ECPv6.15.20//NONSGML v1.0//EN
CALSCALE:GREGORIAN
METHOD:PUBLISH
X-ORIGINAL-URL:https://gulfpinecatholic.com
X-WR-CALDESC:Events for Gulf Pine Catholic
REFRESH-INTERVAL;VALUE=DURATION:PT1H
X-Robots-Tag:noindex
X-PUBLISHED-TTL:PT1H
BEGIN:VTIMEZONE
TZID:America/Chicago
BEGIN:DAYLIGHT
TZOFFSETFROM:-0600
TZOFFSETTO:-0500
TZNAME:CDT
DTSTART:20250309T080000
END:DAYLIGHT
BEGIN:STANDARD
TZOFFSETFROM:-0500
TZOFFSETTO:-0600
TZNAME:CST
DTSTART:20251102T070000
END:STANDARD
BEGIN:DAYLIGHT
TZOFFSETFROM:-0600
TZOFFSETTO:-0500
TZNAME:CDT
DTSTART:20260308T080000
END:DAYLIGHT
BEGIN:STANDARD
TZOFFSETFROM:-0500
TZOFFSETTO:-0600
TZNAME:CST
DTSTART:20261101T070000
END:STANDARD
BEGIN:DAYLIGHT
TZOFFSETFROM:-0600
TZOFFSETTO:-0500
TZNAME:CDT
DTSTART:20270314T080000
END:DAYLIGHT
BEGIN:STANDARD
TZOFFSETFROM:-0500
TZOFFSETTO:-0600
TZNAME:CST
DTSTART:20271107T070000
END:STANDARD
END:VTIMEZONE
BEGIN:VEVENT
DTSTART;TZID=America/Chicago:20260319T100000
DTEND;TZID=America/Chicago:20260319T150000
DTSTAMP:20260424T162944
CREATED:20260209T182114Z
LAST-MODIFIED:20260209T182117Z
UID:10002694-1773914400-1773932400@gulfpinecatholic.com
SUMMARY:Nativity BVM St. Joseph's Altar and Lunch
DESCRIPTION:The St. Joseph’s Altar Society is hosting its tenth annual St. Joseph’s Altar and Spaghetti lunch. Please join us as we celebrate the Feast of St. Joseph on Thursday\, March 19. Doors will open to view the altar at 10 AM. The altar will be blessed at 11:30 and a spaghetti lunch will be served at noon. The altar will remain open for viewing until 3 PM. This event is free and open to the public. Donations are welcome. \n\n\n\n\n\n\n\n\n\n\n\n\n\n\n	Related
URL:https://gulfpinecatholic.com/event/nativity-bvm-st-josephs-altar-and-lunch/
LOCATION:Nativity of the Blessed Virgin Mary Cathedral\, Howard Avenue\, Biloxi\, Mississippi\, 39530\, United States
CATEGORIES:St. Joseph Altar
ORGANIZER;CN="St. Joseph Altar Society":MAILTO:jlimnbvm@gmail.com
GEO:30.397225;-88.8912062
X-APPLE-STRUCTURED-LOCATION;VALUE=URI;X-ADDRESS=Nativity of the Blessed Virgin Mary Cathedral Howard Avenue Biloxi Mississippi 39530 United States;X-APPLE-RADIUS=500;X-TITLE=Howard Avenue:geo:-88.8912062,30.397225
END:VEVENT
END:VCALENDAR