BEGIN:VCALENDAR
VERSION:2.0
PRODID:-//Gulf Pine Catholic - ECPv6.15.20//NONSGML v1.0//EN
CALSCALE:GREGORIAN
METHOD:PUBLISH
X-ORIGINAL-URL:https://gulfpinecatholic.com
X-WR-CALDESC:Events for Gulf Pine Catholic
REFRESH-INTERVAL;VALUE=DURATION:PT1H
X-Robots-Tag:noindex
X-PUBLISHED-TTL:PT1H
BEGIN:VTIMEZONE
TZID:America/Chicago
BEGIN:DAYLIGHT
TZOFFSETFROM:-0600
TZOFFSETTO:-0500
TZNAME:CDT
DTSTART:20250309T080000
END:DAYLIGHT
BEGIN:STANDARD
TZOFFSETFROM:-0500
TZOFFSETTO:-0600
TZNAME:CST
DTSTART:20251102T070000
END:STANDARD
BEGIN:DAYLIGHT
TZOFFSETFROM:-0600
TZOFFSETTO:-0500
TZNAME:CDT
DTSTART:20260308T080000
END:DAYLIGHT
BEGIN:STANDARD
TZOFFSETFROM:-0500
TZOFFSETTO:-0600
TZNAME:CST
DTSTART:20261101T070000
END:STANDARD
BEGIN:DAYLIGHT
TZOFFSETFROM:-0600
TZOFFSETTO:-0500
TZNAME:CDT
DTSTART:20270314T080000
END:DAYLIGHT
BEGIN:STANDARD
TZOFFSETFROM:-0500
TZOFFSETTO:-0600
TZNAME:CST
DTSTART:20271107T070000
END:STANDARD
END:VTIMEZONE
BEGIN:VEVENT
DTSTART;TZID=America/Chicago:20260516T070000
DTEND;TZID=America/Chicago:20260516T150000
DTSTAMP:20260424T062916
CREATED:20260422T133841Z
LAST-MODIFIED:20260422T134113Z
UID:10002724-1778914800-1778943600@gulfpinecatholic.com
SUMMARY:Spring Garage Sale
DESCRIPTION:St. Ann Lizana\, 23529 Highway 53\, Gulfport will be holding their Spring Garage Sale May 16th and May 23rd\, from 7am to 3pm.  \n\n\n\n\n\n\n\n\n\n\n\n\nShare this:\n				Share on X (Opens in new window)\n				X\n			\n				Share on Facebook (Opens in new window)\n				Facebook\n			\n				Print (Opens in new window)\n				Print\n			More\n				Email a link to a friend (Opens in new window)\n				Email\n			\n				Share on WhatsApp (Opens in new window)\n				WhatsApp\n			Like this:Like Loading...
URL:https://gulfpinecatholic.com/event/spring-garage-sale/
LOCATION:St. Ann Parish (Lizana)\, Mississippi 53\, Gulfport\, Mississippi\, 39503\, United States
CATEGORIES:Parish Event
GEO:30.5343437;-89.2369334
X-APPLE-STRUCTURED-LOCATION;VALUE=URI;X-ADDRESS=St. Ann Parish (Lizana) Mississippi 53 Gulfport Mississippi 39503 United States;X-APPLE-RADIUS=500;X-TITLE=Mississippi 53:geo:-89.2369334,30.5343437
END:VEVENT
END:VCALENDAR