BEGIN:VCALENDAR
VERSION:2.0
PRODID:-//Gulf Pine Catholic - ECPv6.15.20//NONSGML v1.0//EN
CALSCALE:GREGORIAN
METHOD:PUBLISH
X-WR-CALNAME:Gulf Pine Catholic
X-ORIGINAL-URL:https://gulfpinecatholic.com
X-WR-CALDESC:Events for Gulf Pine Catholic
REFRESH-INTERVAL;VALUE=DURATION:PT1H
X-Robots-Tag:noindex
X-PUBLISHED-TTL:PT1H
BEGIN:VTIMEZONE
TZID:America/Chicago
BEGIN:DAYLIGHT
TZOFFSETFROM:-0600
TZOFFSETTO:-0500
TZNAME:CDT
DTSTART:20220313T080000
END:DAYLIGHT
BEGIN:STANDARD
TZOFFSETFROM:-0500
TZOFFSETTO:-0600
TZNAME:CST
DTSTART:20221106T070000
END:STANDARD
BEGIN:DAYLIGHT
TZOFFSETFROM:-0600
TZOFFSETTO:-0500
TZNAME:CDT
DTSTART:20230312T080000
END:DAYLIGHT
BEGIN:STANDARD
TZOFFSETFROM:-0500
TZOFFSETTO:-0600
TZNAME:CST
DTSTART:20231105T070000
END:STANDARD
BEGIN:DAYLIGHT
TZOFFSETFROM:-0600
TZOFFSETTO:-0500
TZNAME:CDT
DTSTART:20240310T080000
END:DAYLIGHT
BEGIN:STANDARD
TZOFFSETFROM:-0500
TZOFFSETTO:-0600
TZNAME:CST
DTSTART:20241103T070000
END:STANDARD
END:VTIMEZONE
BEGIN:VEVENT
DTSTART;TZID=America/Chicago:20230520T070000
DTEND;TZID=America/Chicago:20230520T140000
DTSTAMP:20260425T055024
CREATED:20230503T205441Z
LAST-MODIFIED:20250404T152610Z
UID:10000001-1684566000-1684591200@gulfpinecatholic.com
SUMMARY:3rd Annual Bethel Free Health Clinic Golf Tournament
DESCRIPTION:May 20 ~ The 3rd Annual Bethel Free Health Clinic Golf Tournament will be held on Sat.\, May 20\, at Sunkist Country Club in Biloxi. Registration begins at 7 a.m.\, with play commencing at 8 a.m. The tournament will be a four-person ABCD scramble. Prizes will be awarded for: team low gross score; team low net score; closest to the pin; long drive. Hole-in-one prizes on all Par threes\, with a $20\,000 Hole-in-One prize on a designated Par 3.\n\nRegistration is $125 per player and includes green fees\, golf cart\, and meal. Free hybrid club for each player. We are also accepting hole sponsorships. For more information\, call Phone: (228) 594-3640.\n\n\n\n\nShare this:\n				Share on X (Opens in new window)\n				X\n			\n				Share on Facebook (Opens in new window)\n				Facebook\n			\n				Print (Opens in new window)\n				Print\n			More\n				Email a link to a friend (Opens in new window)\n				Email\n			\n				Share on WhatsApp (Opens in new window)\n				WhatsApp\n			Like this:Like Loading...
URL:https://gulfpinecatholic.com/event/3rd-annual-bethel-free-health-clinic-golf-tournament/
LOCATION:Sunkist Country Club\, Sunkist Country Club Road\, Biloxi\, MS\, 39532\, United States
CATEGORIES:Golf Tournament
ATTACH;FMTTYPE=image/jpeg:https://gulfpinecatholic.com/wp-content/uploads/2023/05/sunkist-country-club-biloxi-ms.jpg
GEO:30.4346211;-88.9806472
X-APPLE-STRUCTURED-LOCATION;VALUE=URI;X-ADDRESS=Sunkist Country Club Sunkist Country Club Road Biloxi MS 39532 United States;X-APPLE-RADIUS=500;X-TITLE=Sunkist Country Club Road:geo:-88.9806472,30.4346211
END:VEVENT
END:VCALENDAR